BEGIN:VCALENDAR
VERSION:2.0
PRODID:spatie/icalendar-generator
DESCRIPTION:Events from International Association for Orthodontics
X-WR-CALDESC:Events from International Association for Orthodontics
REFRESH-INTERVAL;VALUE=DURATION:PT1440M
X-PUBLISHED-TTL:PT1440M
BEGIN:VTIMEZONE
TZID:Etc/GMT+6
BEGIN:STANDARD
DTSTART:20240115T000000Z
TZOFFSETFROM:-0600
TZOFFSETTO:-0600
END:STANDARD
END:VTIMEZONE
BEGIN:VTIMEZONE
TZID:UTC
BEGIN:STANDARD
DTSTART:20250724T094144Z
TZOFFSETFROM:+0000
TZOFFSETTO:+0000
END:STANDARD
END:VTIMEZONE
BEGIN:VEVENT
UID:10-7
DTSTAMP:20260420T094144Z
SUMMARY:IAO PAIS\, Session 3
LOCATION:
ORGANIZER;CN=Dr. Charles D. Kirksey\, DDS:MAILTO:cdkirksey@gmail.com
DTSTART;TZID=Etc/GMT+6;VALUE=DATE:20241011
DTEND;TZID=Etc/GMT+6;VALUE=DATE:20241014
X-ALT-DESC;FMTTYPE=TEXT/HTML:Session III ‘Build’: 10/11/24 - 10/13/24 A
 t this point in the PAIS\, attendees will have entered their own case info
 rmation and digital evidence. Each student will receive one-on-one review.
  The attendee will fully understand the requirements of a Fellowship case.
  The participants uploaded case will be broken down by the instructor to e
 nsure expectations are&amp;hellip\;
CATEGORIES:General
URL;VALUE=URI:https://www.iaortho.org/mc-events/iao-pais-session-3/
METHOD:PUBLISH
END:VEVENT
END:VCALENDAR